BEGIN:VCALENDAR
VERSION:2.0
PRODID:-//ACRP - ECPv6.15.20//NONSGML v1.0//EN
CALSCALE:GREGORIAN
METHOD:PUBLISH
X-WR-CALNAME:ACRP
X-ORIGINAL-URL:https://acrpnet.org
X-WR-CALDESC:Events for ACRP
REFRESH-INTERVAL;VALUE=DURATION:PT1H
X-Robots-Tag:noindex
X-PUBLISHED-TTL:PT1H
BEGIN:VTIMEZONE
TZID:America/New_York
BEGIN:DAYLIGHT
TZOFFSETFROM:-0500
TZOFFSETTO:-0400
TZNAME:EDT
DTSTART:20240310T070000
END:DAYLIGHT
BEGIN:STANDARD
TZOFFSETFROM:-0400
TZOFFSETTO:-0500
TZNAME:EST
DTSTART:20241103T060000
END:STANDARD
BEGIN:DAYLIGHT
TZOFFSETFROM:-0500
TZOFFSETTO:-0400
TZNAME:EDT
DTSTART:20250309T070000
END:DAYLIGHT
BEGIN:STANDARD
TZOFFSETFROM:-0400
TZOFFSETTO:-0500
TZNAME:EST
DTSTART:20251102T060000
END:STANDARD
BEGIN:DAYLIGHT
TZOFFSETFROM:-0500
TZOFFSETTO:-0400
TZNAME:EDT
DTSTART:20260308T070000
END:DAYLIGHT
BEGIN:STANDARD
TZOFFSETFROM:-0400
TZOFFSETTO:-0500
TZNAME:EST
DTSTART:20261101T060000
END:STANDARD
END:VTIMEZONE
BEGIN:VTIMEZONE
TZID:America/Los_Angeles
BEGIN:DAYLIGHT
TZOFFSETFROM:-0800
TZOFFSETTO:-0700
TZNAME:PDT
DTSTART:20240310T100000
END:DAYLIGHT
BEGIN:STANDARD
TZOFFSETFROM:-0700
TZOFFSETTO:-0800
TZNAME:PST
DTSTART:20241103T090000
END:STANDARD
BEGIN:DAYLIGHT
TZOFFSETFROM:-0800
TZOFFSETTO:-0700
TZNAME:PDT
DTSTART:20250309T100000
END:DAYLIGHT
BEGIN:STANDARD
TZOFFSETFROM:-0700
TZOFFSETTO:-0800
TZNAME:PST
DTSTART:20251102T090000
END:STANDARD
BEGIN:DAYLIGHT
TZOFFSETFROM:-0800
TZOFFSETTO:-0700
TZNAME:PDT
DTSTART:20260308T100000
END:DAYLIGHT
BEGIN:STANDARD
TZOFFSETFROM:-0700
TZOFFSETTO:-0800
TZNAME:PST
DTSTART:20261101T090000
END:STANDARD
END:VTIMEZONE
BEGIN:VEVENT
DTSTART;TZID=America/New_York:20250715T000000
DTEND;TZID=America/New_York:20251015T235900
DTSTAMP:20260423T114710
CREATED:20241001T204631Z
LAST-MODIFIED:20250320T122306Z
UID:10000008-1752537600-1760572740@acrpnet.org
SUMMARY:Fall 2025 Initial Certification Testing Dates
DESCRIPTION:Congratulations on your decision to earn the most recognized and respected endorsement of clinical research competency—ACRP Certification. As you start this important journey in your career\, learn how ACRP is here to support you every step of the way. \nACRP offers Assessment Packages\, a Supplemental Training Package to better understand ICH Guidelines\, and Comprehensive Assessment & Training Packages. Learn more about ACRP Certification Exam Prep Packages > \nACRP offers additional resources to help prepare for your ACRP Certification exam. Explore Resources >
URL:https://acrpnet.org/event/fall-2025-initial-certification-testing-dates
END:VEVENT
BEGIN:VEVENT
DTSTART;TZID=America/New_York:20250815T000000
DTEND;TZID=America/New_York:20251015T235900
DTSTAMP:20260423T114710
CREATED:20241001T211217Z
LAST-MODIFIED:20250320T122231Z
UID:10000006-1755216000-1760572740@acrpnet.org
SUMMARY:Fall 2025 Certification Maintenance Early Bird Registration
DESCRIPTION:Maintain your ACRP Certification at reduced rates by registering during the Fall 2025 Early Bird window\, August 15 – October 15\, 2025. ACRP members save even more! \nWhen you maintain your ACRP Certification\, you demonstrate a continued dedication to the highest standards of excellence and signal to employers that you are among the best of the best in clinical research. \nFollow these three steps: Determine Recertification Method; Earn and Report 24 Continuing Education or Involvement Points; Submit Your Application and Payment. Visit our website for more details >
URL:https://acrpnet.org/event/fall-2025-certification-maintenance-early-bird-registration
END:VEVENT
BEGIN:VEVENT
DTSTART;TZID=America/Los_Angeles:20251011T083000
DTEND;TZID=America/Los_Angeles:20251011T141500
DTSTAMP:20260423T114710
CREATED:20250916T164605Z
LAST-MODIFIED:20250916T164605Z
UID:10000140-1760171400-1760192100@acrpnet.org
SUMMARY:Northern California Chapter: 2025 Career Bootcamp
DESCRIPTION:Join the Northern California Chapter for their annual hybrid career bootcamp event. \nLearn More & Register
URL:https://acrpnet.org/event/northern-california-chapter-2025-career-bootcamp
END:VEVENT
END:VCALENDAR