BEGIN:VCALENDAR
VERSION:2.0
PRODID:-//ACRP - ECPv6.15.20//NONSGML v1.0//EN
CALSCALE:GREGORIAN
METHOD:PUBLISH
X-ORIGINAL-URL:https://acrpnet.org
X-WR-CALDESC:Events for ACRP
REFRESH-INTERVAL;VALUE=DURATION:PT1H
X-Robots-Tag:noindex
X-PUBLISHED-TTL:PT1H
BEGIN:VTIMEZONE
TZID:America/New_York
BEGIN:DAYLIGHT
TZOFFSETFROM:-0500
TZOFFSETTO:-0400
TZNAME:EDT
DTSTART:20240310T070000
END:DAYLIGHT
BEGIN:STANDARD
TZOFFSETFROM:-0400
TZOFFSETTO:-0500
TZNAME:EST
DTSTART:20241103T060000
END:STANDARD
BEGIN:DAYLIGHT
TZOFFSETFROM:-0500
TZOFFSETTO:-0400
TZNAME:EDT
DTSTART:20250309T070000
END:DAYLIGHT
BEGIN:STANDARD
TZOFFSETFROM:-0400
TZOFFSETTO:-0500
TZNAME:EST
DTSTART:20251102T060000
END:STANDARD
BEGIN:DAYLIGHT
TZOFFSETFROM:-0500
TZOFFSETTO:-0400
TZNAME:EDT
DTSTART:20260308T070000
END:DAYLIGHT
BEGIN:STANDARD
TZOFFSETFROM:-0400
TZOFFSETTO:-0500
TZNAME:EST
DTSTART:20261101T060000
END:STANDARD
END:VTIMEZONE
BEGIN:VTIMEZONE
TZID:America/Los_Angeles
BEGIN:DAYLIGHT
TZOFFSETFROM:-0800
TZOFFSETTO:-0700
TZNAME:PDT
DTSTART:20240310T100000
END:DAYLIGHT
BEGIN:STANDARD
TZOFFSETFROM:-0700
TZOFFSETTO:-0800
TZNAME:PST
DTSTART:20241103T090000
END:STANDARD
BEGIN:DAYLIGHT
TZOFFSETFROM:-0800
TZOFFSETTO:-0700
TZNAME:PDT
DTSTART:20250309T100000
END:DAYLIGHT
BEGIN:STANDARD
TZOFFSETFROM:-0700
TZOFFSETTO:-0800
TZNAME:PST
DTSTART:20251102T090000
END:STANDARD
BEGIN:DAYLIGHT
TZOFFSETFROM:-0800
TZOFFSETTO:-0700
TZNAME:PDT
DTSTART:20260308T100000
END:DAYLIGHT
BEGIN:STANDARD
TZOFFSETFROM:-0700
TZOFFSETTO:-0800
TZNAME:PST
DTSTART:20261101T090000
END:STANDARD
END:VTIMEZONE
BEGIN:VEVENT
DTSTART;VALUE=DATE:20251020
DTEND;VALUE=DATE:20260101
DTSTAMP:20260419T192536
CREATED:20250904T185734Z
LAST-MODIFIED:20250904T185734Z
UID:10000123-1760918400-1767225599@acrpnet.org
SUMMARY:Spring 2026 Initial Certification Early Bird Registration
DESCRIPTION:Earn your ACRP certification at reduced rates by registering during the Spring 2026 Early Bird window\, October 20 – December 31\, 2025. ACRP members save even more! \nWith a 30-year legacy\, ACRP Certification is the most reputable credentialing program in clinical research. Since 1992\, more than 43\,000 professionals and their employers have come to trust ACRP Certification as the mark of excellence in clinical research. \nLearn the many benefits of ACRP Certification and start your journey today >
URL:https://acrpnet.org/event/spring-2026-initial-certification-early-bird-registration
END:VEVENT
BEGIN:VEVENT
DTSTART;TZID=America/New_York:20251211T180000
DTEND;TZID=America/New_York:20251211T200000
DTSTAMP:20260419T192536
CREATED:20251113T174944Z
LAST-MODIFIED:20251113T174944Z
UID:10000165-1765476000-1765483200@acrpnet.org
SUMMARY:Atlanta Chapter: 2025 Holiday Social - Strikes & Season’s Greetings
DESCRIPTION:Join the Atlanta Chapter for their in-person holiday party. \nLearn More & Register
URL:https://acrpnet.org/event/atlanta-chapter-2025-holiday-social-strikes-seasons-greetings
END:VEVENT
BEGIN:VEVENT
DTSTART;TZID=America/New_York:20251211T180000
DTEND;TZID=America/New_York:20251211T200000
DTSTAMP:20260419T192536
CREATED:20251117T213837Z
LAST-MODIFIED:20251117T213837Z
UID:10000172-1765476000-1765483200@acrpnet.org
SUMMARY:Central Florida Chapter: 2025 Holiday Party
DESCRIPTION:Join the Central FL Chapter for their in-person holiday party. \nLearn More & Register
URL:https://acrpnet.org/event/central-florida-chapter-2025-holiday-party
END:VEVENT
BEGIN:VEVENT
DTSTART;TZID=America/Los_Angeles:20251211T180000
DTEND;TZID=America/Los_Angeles:20251211T210000
DTSTAMP:20260419T192536
CREATED:20250905T154101Z
LAST-MODIFIED:20250905T154101Z
UID:10000128-1765476000-1765486800@acrpnet.org
SUMMARY:Greater San Diego Chapter: 2025 Holiday Party
DESCRIPTION:Join the Greater San Diego Chapter for the in-person holiday party. \nLearn More & Register
URL:https://acrpnet.org/event/greater-san-diego-chapter-2025-holiday-party
END:VEVENT
END:VCALENDAR