BEGIN:VCALENDAR
VERSION:2.0
PRODID:-//ACRP - ECPv6.15.20//NONSGML v1.0//EN
CALSCALE:GREGORIAN
METHOD:PUBLISH
X-ORIGINAL-URL:https://acrpnet.org
X-WR-CALDESC:Events for ACRP
REFRESH-INTERVAL;VALUE=DURATION:PT1H
X-Robots-Tag:noindex
X-PUBLISHED-TTL:PT1H
BEGIN:VTIMEZONE
TZID:America/New_York
BEGIN:DAYLIGHT
TZOFFSETFROM:-0500
TZOFFSETTO:-0400
TZNAME:EDT
DTSTART:20250309T070000
END:DAYLIGHT
BEGIN:STANDARD
TZOFFSETFROM:-0400
TZOFFSETTO:-0500
TZNAME:EST
DTSTART:20251102T060000
END:STANDARD
BEGIN:DAYLIGHT
TZOFFSETFROM:-0500
TZOFFSETTO:-0400
TZNAME:EDT
DTSTART:20260308T070000
END:DAYLIGHT
BEGIN:STANDARD
TZOFFSETFROM:-0400
TZOFFSETTO:-0500
TZNAME:EST
DTSTART:20261101T060000
END:STANDARD
BEGIN:DAYLIGHT
TZOFFSETFROM:-0500
TZOFFSETTO:-0400
TZNAME:EDT
DTSTART:20270314T070000
END:DAYLIGHT
BEGIN:STANDARD
TZOFFSETFROM:-0400
TZOFFSETTO:-0500
TZNAME:EST
DTSTART:20271107T060000
END:STANDARD
END:VTIMEZONE
BEGIN:VTIMEZONE
TZID:America/Los_Angeles
BEGIN:DAYLIGHT
TZOFFSETFROM:-0800
TZOFFSETTO:-0700
TZNAME:PDT
DTSTART:20250309T100000
END:DAYLIGHT
BEGIN:STANDARD
TZOFFSETFROM:-0700
TZOFFSETTO:-0800
TZNAME:PST
DTSTART:20251102T090000
END:STANDARD
BEGIN:DAYLIGHT
TZOFFSETFROM:-0800
TZOFFSETTO:-0700
TZNAME:PDT
DTSTART:20260308T100000
END:DAYLIGHT
BEGIN:STANDARD
TZOFFSETFROM:-0700
TZOFFSETTO:-0800
TZNAME:PST
DTSTART:20261101T090000
END:STANDARD
BEGIN:DAYLIGHT
TZOFFSETFROM:-0800
TZOFFSETTO:-0700
TZNAME:PDT
DTSTART:20270314T100000
END:DAYLIGHT
BEGIN:STANDARD
TZOFFSETFROM:-0700
TZOFFSETTO:-0800
TZNAME:PST
DTSTART:20271107T090000
END:STANDARD
END:VTIMEZONE
BEGIN:VEVENT
DTSTART;VALUE=DATE:20260101
DTEND;VALUE=DATE:20260501
DTSTAMP:20260423T124348
CREATED:20250904T185549Z
LAST-MODIFIED:20250904T185549Z
UID:10000122-1767225600-1777593599@acrpnet.org
SUMMARY:Spring 2026 Initial Certification Regular Registration
DESCRIPTION:Earn your ACRP certification by registering during the Spring 2026 registration window\, January 1 – April 30\, 2026. ACRP members save on exam preparation and testing fees! \nWith a 30-year legacy\, ACRP Certification is the most reputable credentialing program in clinical research. Since 1992\, more than 43\,000 professionals and their employers have come to trust ACRP Certification as the mark of excellence in clinical research. \nLearn the many benefits of ACRP Certification and start your journey today >
URL:https://acrpnet.org/event/spring-2026-initial-certification-regular-registration
END:VEVENT
BEGIN:VEVENT
DTSTART;TZID=America/New_York:20260211T120000
DTEND;TZID=America/New_York:20260211T130000
DTSTAMP:20260423T124348
CREATED:20260203T144716Z
LAST-MODIFIED:20260203T144716Z
UID:10000211-1770811200-1770814800@acrpnet.org
SUMMARY:Virginia Chapter: Ethical and Practical Considerations for eConsent and Digital Tools in Clinical Research
DESCRIPTION:Join the VA Chapter for a virtual educational event. \nLearn More & Register
URL:https://acrpnet.org/event/virginia-chapter-ethical-and-practical-considerations-for-econsent-and-digital-tools-in-clinical-research
END:VEVENT
BEGIN:VEVENT
DTSTART;TZID=America/Los_Angeles:20260211T120000
DTEND;TZID=America/Los_Angeles:20260211T133000
DTSTAMP:20260423T124348
CREATED:20260204T141738Z
LAST-MODIFIED:20260204T141738Z
UID:10000212-1770811200-1770816600@acrpnet.org
SUMMARY:PNW Chapter: Back to Clinical Trial Budgeting Basics: Are Your Costs Covered? (ACRP 2025 Conference Replay)
DESCRIPTION:Join the PNW Chapter for a virtual ACRP 2025 conference replay session. \nLearn More & Register
URL:https://acrpnet.org/event/pnw-chapter-back-to-clinical-trial-budgeting-basics-are-your-costs-covered-acrp-2025-conference-replay
END:VEVENT
END:VCALENDAR