BEGIN:VCALENDAR
VERSION:2.0
PRODID:-//ACRP - ECPv6.15.20//NONSGML v1.0//EN
CALSCALE:GREGORIAN
METHOD:PUBLISH
X-WR-CALNAME:ACRP
X-ORIGINAL-URL:https://acrpnet.org
X-WR-CALDESC:Events for ACRP
REFRESH-INTERVAL;VALUE=DURATION:PT1H
X-Robots-Tag:noindex
X-PUBLISHED-TTL:PT1H
BEGIN:VTIMEZONE
TZID:America/New_York
BEGIN:DAYLIGHT
TZOFFSETFROM:-0500
TZOFFSETTO:-0400
TZNAME:EDT
DTSTART:20250309T070000
END:DAYLIGHT
BEGIN:STANDARD
TZOFFSETFROM:-0400
TZOFFSETTO:-0500
TZNAME:EST
DTSTART:20251102T060000
END:STANDARD
BEGIN:DAYLIGHT
TZOFFSETFROM:-0500
TZOFFSETTO:-0400
TZNAME:EDT
DTSTART:20260308T070000
END:DAYLIGHT
BEGIN:STANDARD
TZOFFSETFROM:-0400
TZOFFSETTO:-0500
TZNAME:EST
DTSTART:20261101T060000
END:STANDARD
BEGIN:DAYLIGHT
TZOFFSETFROM:-0500
TZOFFSETTO:-0400
TZNAME:EDT
DTSTART:20270314T070000
END:DAYLIGHT
BEGIN:STANDARD
TZOFFSETFROM:-0400
TZOFFSETTO:-0500
TZNAME:EST
DTSTART:20271107T060000
END:STANDARD
END:VTIMEZONE
BEGIN:VTIMEZONE
TZID:America/Los_Angeles
BEGIN:DAYLIGHT
TZOFFSETFROM:-0800
TZOFFSETTO:-0700
TZNAME:PDT
DTSTART:20250309T100000
END:DAYLIGHT
BEGIN:STANDARD
TZOFFSETFROM:-0700
TZOFFSETTO:-0800
TZNAME:PST
DTSTART:20251102T090000
END:STANDARD
BEGIN:DAYLIGHT
TZOFFSETFROM:-0800
TZOFFSETTO:-0700
TZNAME:PDT
DTSTART:20260308T100000
END:DAYLIGHT
BEGIN:STANDARD
TZOFFSETFROM:-0700
TZOFFSETTO:-0800
TZNAME:PST
DTSTART:20261101T090000
END:STANDARD
BEGIN:DAYLIGHT
TZOFFSETFROM:-0800
TZOFFSETTO:-0700
TZNAME:PDT
DTSTART:20270314T100000
END:DAYLIGHT
BEGIN:STANDARD
TZOFFSETFROM:-0700
TZOFFSETTO:-0800
TZNAME:PST
DTSTART:20271107T090000
END:STANDARD
END:VTIMEZONE
BEGIN:VEVENT
DTSTART;VALUE=DATE:20260101
DTEND;VALUE=DATE:20260501
DTSTAMP:20260423T194503
CREATED:20250904T185549Z
LAST-MODIFIED:20250904T185549Z
UID:10000122-1767225600-1777593599@acrpnet.org
SUMMARY:Spring 2026 Initial Certification Regular Registration
DESCRIPTION:Earn your ACRP certification by registering during the Spring 2026 registration window\, January 1 – April 30\, 2026. ACRP members save on exam preparation and testing fees! \nWith a 30-year legacy\, ACRP Certification is the most reputable credentialing program in clinical research. Since 1992\, more than 43\,000 professionals and their employers have come to trust ACRP Certification as the mark of excellence in clinical research. \nLearn the many benefits of ACRP Certification and start your journey today >
URL:https://acrpnet.org/event/spring-2026-initial-certification-regular-registration
END:VEVENT
BEGIN:VEVENT
DTSTART;VALUE=DATE:20260215
DTEND;VALUE=DATE:20260416
DTSTAMP:20260423T194503
CREATED:20250904T191217Z
LAST-MODIFIED:20251125T165425Z
UID:10000126-1771113600-1776297599@acrpnet.org
SUMMARY:Spring 2026 Certification Maintenance Early Bird Registration
DESCRIPTION:Maintain your ACRP Certification at reduced rates by registering during the Spring 2026 Early Bird window\, February 15 – April 15\, 2026. ACRP members save even more! \nWhen you maintain your ACRP Certification\, you demonstrate a continued dedication to the highest standards of excellence and signal to employers that you are among the best of the best in clinical research. \nFollow these three steps: Determine Recertification Method; Earn and Report 24 Continuing Education or Involvement Points; Submit Your Application and Payment. Visit our website for more details >
URL:https://acrpnet.org/event/spring-2026-certification-maintenance-early-bird-registration
END:VEVENT
BEGIN:VEVENT
DTSTART;VALUE=DATE:20260215
DTEND;VALUE=DATE:20260516
DTSTAMP:20260423T194503
CREATED:20250904T185839Z
LAST-MODIFIED:20250904T185839Z
UID:10000124-1771113600-1778889599@acrpnet.org
SUMMARY:Spring 2026 Initial Certification Testing Dates
DESCRIPTION:Congratulations on your decision to earn the most recognized and respected endorsement of clinical research competency—ACRP Certification. As you start this important journey in your career\, learn how ACRP is here to support you every step of the way. \nACRP offers Assessment Packages\, a Supplemental Training Package to better understand ICH Guidelines\, and Comprehensive Assessment & Training Packages. Learn more about ACRP Certification Exam Prep Packages > \nACRP offers additional resources to help prepare for your ACRP Certification exam. Explore Resources >
URL:https://acrpnet.org/event/spring-2026-initial-certification-testing-dates
END:VEVENT
BEGIN:VEVENT
DTSTART;TZID=America/New_York:20260318T120000
DTEND;TZID=America/New_York:20260318T130000
DTSTAMP:20260423T194503
CREATED:20260220T194102Z
LAST-MODIFIED:20260220T194102Z
UID:10000232-1773835200-1773838800@acrpnet.org
SUMMARY:Strengthening Your Clinical Research Site’s Social Media Impact
DESCRIPTION:
URL:https://acrpnet.org/event/strengthening-your-clinical-research-sites-social-media-impact
END:VEVENT
BEGIN:VEVENT
DTSTART;TZID=America/Los_Angeles:20260318T173000
DTEND;TZID=America/Los_Angeles:20260318T193000
DTSTAMP:20260423T194503
CREATED:20260218T140225Z
LAST-MODIFIED:20260218T140225Z
UID:10000225-1773855000-1773862200@acrpnet.org
SUMMARY:Greater San Diego Chapter: Where REMS Meets Reality - Psychedelics\, Patients\, and Clinical Trials
DESCRIPTION:Join the Greater San Diego Chapter for an in-person educational event. \nLearn More & Register
URL:https://acrpnet.org/event/greater-san-diego-chapter-where-rems-meets-reality-psychedelics-patients-and-clinical-trials
END:VEVENT
END:VCALENDAR