BEGIN:VCALENDAR
VERSION:2.0
PRODID:-//ACRP - ECPv6.15.20//NONSGML v1.0//EN
CALSCALE:GREGORIAN
METHOD:PUBLISH
X-WR-CALNAME:ACRP
X-ORIGINAL-URL:https://acrpnet.org
X-WR-CALDESC:Events for ACRP
REFRESH-INTERVAL;VALUE=DURATION:PT1H
X-Robots-Tag:noindex
X-PUBLISHED-TTL:PT1H
BEGIN:VTIMEZONE
TZID:America/New_York
BEGIN:DAYLIGHT
TZOFFSETFROM:-0500
TZOFFSETTO:-0400
TZNAME:EDT
DTSTART:20250309T070000
END:DAYLIGHT
BEGIN:STANDARD
TZOFFSETFROM:-0400
TZOFFSETTO:-0500
TZNAME:EST
DTSTART:20251102T060000
END:STANDARD
BEGIN:DAYLIGHT
TZOFFSETFROM:-0500
TZOFFSETTO:-0400
TZNAME:EDT
DTSTART:20260308T070000
END:DAYLIGHT
BEGIN:STANDARD
TZOFFSETFROM:-0400
TZOFFSETTO:-0500
TZNAME:EST
DTSTART:20261101T060000
END:STANDARD
BEGIN:DAYLIGHT
TZOFFSETFROM:-0500
TZOFFSETTO:-0400
TZNAME:EDT
DTSTART:20270314T070000
END:DAYLIGHT
BEGIN:STANDARD
TZOFFSETFROM:-0400
TZOFFSETTO:-0500
TZNAME:EST
DTSTART:20271107T060000
END:STANDARD
END:VTIMEZONE
BEGIN:VTIMEZONE
TZID:America/Chicago
BEGIN:DAYLIGHT
TZOFFSETFROM:-0600
TZOFFSETTO:-0500
TZNAME:CDT
DTSTART:20250309T080000
END:DAYLIGHT
BEGIN:STANDARD
TZOFFSETFROM:-0500
TZOFFSETTO:-0600
TZNAME:CST
DTSTART:20251102T070000
END:STANDARD
BEGIN:DAYLIGHT
TZOFFSETFROM:-0600
TZOFFSETTO:-0500
TZNAME:CDT
DTSTART:20260308T080000
END:DAYLIGHT
BEGIN:STANDARD
TZOFFSETFROM:-0500
TZOFFSETTO:-0600
TZNAME:CST
DTSTART:20261101T070000
END:STANDARD
BEGIN:DAYLIGHT
TZOFFSETFROM:-0600
TZOFFSETTO:-0500
TZNAME:CDT
DTSTART:20270314T080000
END:DAYLIGHT
BEGIN:STANDARD
TZOFFSETFROM:-0500
TZOFFSETTO:-0600
TZNAME:CST
DTSTART:20271107T070000
END:STANDARD
END:VTIMEZONE
BEGIN:VTIMEZONE
TZID:America/Los_Angeles
BEGIN:DAYLIGHT
TZOFFSETFROM:-0800
TZOFFSETTO:-0700
TZNAME:PDT
DTSTART:20250309T100000
END:DAYLIGHT
BEGIN:STANDARD
TZOFFSETFROM:-0700
TZOFFSETTO:-0800
TZNAME:PST
DTSTART:20251102T090000
END:STANDARD
BEGIN:DAYLIGHT
TZOFFSETFROM:-0800
TZOFFSETTO:-0700
TZNAME:PDT
DTSTART:20260308T100000
END:DAYLIGHT
BEGIN:STANDARD
TZOFFSETFROM:-0700
TZOFFSETTO:-0800
TZNAME:PST
DTSTART:20261101T090000
END:STANDARD
BEGIN:DAYLIGHT
TZOFFSETFROM:-0800
TZOFFSETTO:-0700
TZNAME:PDT
DTSTART:20270314T100000
END:DAYLIGHT
BEGIN:STANDARD
TZOFFSETFROM:-0700
TZOFFSETTO:-0800
TZNAME:PST
DTSTART:20271107T090000
END:STANDARD
END:VTIMEZONE
BEGIN:VEVENT
DTSTART;VALUE=DATE:20260215
DTEND;VALUE=DATE:20260516
DTSTAMP:20260424T114122
CREATED:20250904T185839Z
LAST-MODIFIED:20250904T185839Z
UID:10000124-1771113600-1778889599@acrpnet.org
SUMMARY:Spring 2026 Initial Certification Testing Dates
DESCRIPTION:Congratulations on your decision to earn the most recognized and respected endorsement of clinical research competency—ACRP Certification. As you start this important journey in your career\, learn how ACRP is here to support you every step of the way. \nACRP offers Assessment Packages\, a Supplemental Training Package to better understand ICH Guidelines\, and Comprehensive Assessment & Training Packages. Learn more about ACRP Certification Exam Prep Packages > \nACRP offers additional resources to help prepare for your ACRP Certification exam. Explore Resources >
URL:https://acrpnet.org/event/spring-2026-initial-certification-testing-dates
END:VEVENT
BEGIN:VEVENT
DTSTART;VALUE=DATE:20260416
DTEND;VALUE=DATE:20260601
DTSTAMP:20260424T114122
CREATED:20250904T191104Z
LAST-MODIFIED:20250904T191104Z
UID:10000125-1776297600-1780271999@acrpnet.org
SUMMARY:Spring 2026 Certification Maintenance Regular Registration
DESCRIPTION:Maintain your ACRP Certification by registering during the Spring 2026 registration window\, April 16 – May 31\, 2026. ACRP members save on recertification! \nWhen you maintain your ACRP Certification\, you demonstrate a continued dedication to the highest standards of excellence and signal to employers that you are among the best of the best in clinical research. \nFollow these three steps: Determine Recertification Method; Earn and Report 24 Continuing Education or Involvement Points; Submit Your Application and Payment. Visit our website for more details >
URL:https://acrpnet.org/event/spring-2026-certification-maintenance-regular-registration
END:VEVENT
BEGIN:VEVENT
DTSTART;TZID=America/New_York:20260514T120000
DTEND;TZID=America/New_York:20260514T130000
DTSTAMP:20260424T114122
CREATED:20260422T130122Z
LAST-MODIFIED:20260422T130122Z
UID:10000268-1778760000-1778763600@acrpnet.org
SUMMARY:RTP Chapter: Patient & Public Views on Clinical Research - Highlights from the 2025 CISCRP P&I Study
DESCRIPTION:Join the ACRP RTP Chapter for a virtual event on the findings from CISCRP’s 2025 Perceptions and Insights Study. \nLearn More
URL:https://acrpnet.org/event/rtp-chapter-patient-public-views-on-clinical-research-highlights-from-the-2025-ciscrp-pi-study
END:VEVENT
BEGIN:VEVENT
DTSTART;TZID=America/Chicago:20260514T173000
DTEND;TZID=America/Chicago:20260514T193000
DTSTAMP:20260424T114122
CREATED:20260319T215906Z
LAST-MODIFIED:20260323T173046Z
UID:10000249-1778779800-1778787000@acrpnet.org
SUMMARY:Greater San Antonio Chapter: 2026 Clinical Trials Day Social
DESCRIPTION:Join the Greater San Antonio Chapter for a in-person Clinical Trials Day celebration. \nLearn More & Register
URL:https://acrpnet.org/event/greater-san-antonio-chapter-2026-clinical-trials-day-social
END:VEVENT
BEGIN:VEVENT
DTSTART;TZID=America/Los_Angeles:20260514T173000
DTEND;TZID=America/Los_Angeles:20260514T193000
DTSTAMP:20260424T114122
CREATED:20260416T165941Z
LAST-MODIFIED:20260416T165941Z
UID:10000263-1778779800-1778787000@acrpnet.org
SUMMARY:Greater San Diego Chapter: Cut through the Noise - Practical AI for Modern Clinical Trial Teams
DESCRIPTION:Join the Greater San Diego Chapter for a in-person educational event. \nLearn More & Register
URL:https://acrpnet.org/event/greater-san-diego-chapter-cut-through-the-noise-practical-ai-for-modern-clinical-trial-teams
END:VEVENT
BEGIN:VEVENT
DTSTART;TZID=America/New_York:20260514T180000
DTEND;TZID=America/New_York:20260514T210000
DTSTAMP:20260424T114122
CREATED:20260317T184741Z
LAST-MODIFIED:20260317T184741Z
UID:10000247-1778781600-1778792400@acrpnet.org
SUMMARY:New England Chapter: Clinical Research Without Borders
DESCRIPTION:Join the New England Chapter for an in-person networking event. \nLearn More & Register
URL:https://acrpnet.org/event/new-england-chapter-clinical-research-without-borders
END:VEVENT
END:VCALENDAR