BEGIN:VCALENDAR
VERSION:2.0
PRODID:-//ACRP - ECPv6.15.20//NONSGML v1.0//EN
CALSCALE:GREGORIAN
METHOD:PUBLISH
X-ORIGINAL-URL:https://acrpnet.org
X-WR-CALDESC:Events for ACRP
REFRESH-INTERVAL;VALUE=DURATION:PT1H
X-Robots-Tag:noindex
X-PUBLISHED-TTL:PT1H
BEGIN:VTIMEZONE
TZID:America/New_York
BEGIN:DAYLIGHT
TZOFFSETFROM:-0500
TZOFFSETTO:-0400
TZNAME:EDT
DTSTART:20250309T070000
END:DAYLIGHT
BEGIN:STANDARD
TZOFFSETFROM:-0400
TZOFFSETTO:-0500
TZNAME:EST
DTSTART:20251102T060000
END:STANDARD
BEGIN:DAYLIGHT
TZOFFSETFROM:-0500
TZOFFSETTO:-0400
TZNAME:EDT
DTSTART:20260308T070000
END:DAYLIGHT
BEGIN:STANDARD
TZOFFSETFROM:-0400
TZOFFSETTO:-0500
TZNAME:EST
DTSTART:20261101T060000
END:STANDARD
BEGIN:DAYLIGHT
TZOFFSETFROM:-0500
TZOFFSETTO:-0400
TZNAME:EDT
DTSTART:20270314T070000
END:DAYLIGHT
BEGIN:STANDARD
TZOFFSETFROM:-0400
TZOFFSETTO:-0500
TZNAME:EST
DTSTART:20271107T060000
END:STANDARD
END:VTIMEZONE
BEGIN:VTIMEZONE
TZID:America/Los_Angeles
BEGIN:DAYLIGHT
TZOFFSETFROM:-0800
TZOFFSETTO:-0700
TZNAME:PDT
DTSTART:20250309T100000
END:DAYLIGHT
BEGIN:STANDARD
TZOFFSETFROM:-0700
TZOFFSETTO:-0800
TZNAME:PST
DTSTART:20251102T090000
END:STANDARD
BEGIN:DAYLIGHT
TZOFFSETFROM:-0800
TZOFFSETTO:-0700
TZNAME:PDT
DTSTART:20260308T100000
END:DAYLIGHT
BEGIN:STANDARD
TZOFFSETFROM:-0700
TZOFFSETTO:-0800
TZNAME:PST
DTSTART:20261101T090000
END:STANDARD
BEGIN:DAYLIGHT
TZOFFSETFROM:-0800
TZOFFSETTO:-0700
TZNAME:PDT
DTSTART:20270314T100000
END:DAYLIGHT
BEGIN:STANDARD
TZOFFSETFROM:-0700
TZOFFSETTO:-0800
TZNAME:PST
DTSTART:20271107T090000
END:STANDARD
END:VTIMEZONE
BEGIN:VTIMEZONE
TZID:America/Chicago
BEGIN:DAYLIGHT
TZOFFSETFROM:-0600
TZOFFSETTO:-0500
TZNAME:CDT
DTSTART:20250309T080000
END:DAYLIGHT
BEGIN:STANDARD
TZOFFSETFROM:-0500
TZOFFSETTO:-0600
TZNAME:CST
DTSTART:20251102T070000
END:STANDARD
BEGIN:DAYLIGHT
TZOFFSETFROM:-0600
TZOFFSETTO:-0500
TZNAME:CDT
DTSTART:20260308T080000
END:DAYLIGHT
BEGIN:STANDARD
TZOFFSETFROM:-0500
TZOFFSETTO:-0600
TZNAME:CST
DTSTART:20261101T070000
END:STANDARD
BEGIN:DAYLIGHT
TZOFFSETFROM:-0600
TZOFFSETTO:-0500
TZNAME:CDT
DTSTART:20270314T080000
END:DAYLIGHT
BEGIN:STANDARD
TZOFFSETFROM:-0500
TZOFFSETTO:-0600
TZNAME:CST
DTSTART:20271107T070000
END:STANDARD
END:VTIMEZONE
BEGIN:VEVENT
DTSTART;VALUE=DATE:20260101
DTEND;VALUE=DATE:20260501
DTSTAMP:20260424T130651
CREATED:20250904T185549Z
LAST-MODIFIED:20250904T185549Z
UID:10000122-1767225600-1777593599@acrpnet.org
SUMMARY:Spring 2026 Initial Certification Regular Registration
DESCRIPTION:Earn your ACRP certification by registering during the Spring 2026 registration window\, January 1 – April 30\, 2026. ACRP members save on exam preparation and testing fees! \nWith a 30-year legacy\, ACRP Certification is the most reputable credentialing program in clinical research. Since 1992\, more than 43\,000 professionals and their employers have come to trust ACRP Certification as the mark of excellence in clinical research. \nLearn the many benefits of ACRP Certification and start your journey today >
URL:https://acrpnet.org/event/spring-2026-initial-certification-regular-registration
END:VEVENT
BEGIN:VEVENT
DTSTART;TZID=America/New_York:20260126T110000
DTEND;TZID=America/New_York:20260126T120000
DTSTAMP:20260424T130651
CREATED:20260108T042838Z
LAST-MODIFIED:20260108T042838Z
UID:10000189-1769425200-1769428800@acrpnet.org
SUMMARY:Greater Smokey Mountains Chapter: Virtual Kick-Off Event
DESCRIPTION:Join the Greater Smokey Mountains Chapter for a virtual kick off event. \nLearn More & Register
URL:https://acrpnet.org/event/greater-smokey-mountains-chapter-virtual-kick-off-event
END:VEVENT
BEGIN:VEVENT
DTSTART;TZID=America/Los_Angeles:20260127T120000
DTEND;TZID=America/Los_Angeles:20260127T130000
DTSTAMP:20260424T130651
CREATED:20260114T143519Z
LAST-MODIFIED:20260114T143519Z
UID:10000196-1769515200-1769518800@acrpnet.org
SUMMARY:PNW Chapter: Doing More with Less - Maximizing the Value of Your Clinical Research Technology Investments (ACRP Webinar Replay)
DESCRIPTION:Join the PNW Chapter for this virtual ACRP Webinar Replay event. \nLearn More & Register
URL:https://acrpnet.org/event/pnw-chapter-doing-more-with-less-maximizing-the-value-of-your-clinical-research-technology-investments-acrp-webinar-replay
END:VEVENT
BEGIN:VEVENT
DTSTART;TZID=America/New_York:20260129T120000
DTEND;TZID=America/New_York:20260129T130000
DTSTAMP:20260424T130651
CREATED:20251210T224209Z
LAST-MODIFIED:20251210T224209Z
UID:10000181-1769688000-1769691600@acrpnet.org
SUMMARY:RTP Chapter: ACRP Certification - What\, Why and How to Prepare
DESCRIPTION:Join the RTP Chapter for a virtual event about ACRP Certification. \nLearn More & Register
URL:https://acrpnet.org/event/rtp-chapter-acrp-certification-what-why-and-how-to-prepare
END:VEVENT
BEGIN:VEVENT
DTSTART;TZID=America/New_York:20260129T180000
DTEND;TZID=America/New_York:20260129T183000
DTSTAMP:20260424T130651
CREATED:20260109T161203Z
LAST-MODIFIED:20260109T161203Z
UID:10000191-1769709600-1769711400@acrpnet.org
SUMMARY:New Jersey Chapter: 2026 Kick-Off Meeting
DESCRIPTION:Join the New Jersey Chapter for their virtual 2026 kick-off meeting. \nLearn More & Register
URL:https://acrpnet.org/event/new-jersey-chapter-2026-kick-off-meeting
END:VEVENT
BEGIN:VEVENT
DTSTART;TZID=America/Chicago:20260130T083000
DTEND;TZID=America/Chicago:20260130T161500
DTSTAMP:20260424T130651
CREATED:20251114T144354Z
LAST-MODIFIED:20260106T183136Z
UID:10000171-1769761800-1769789700@acrpnet.org
SUMMARY:North Texas Chapter: January 2026 ACRP Certification Virtual Exam Prep Course
DESCRIPTION:Join the North Texas Chapter for a virtual prep event for ACRP Certification. \nLearn More & Register
URL:https://acrpnet.org/event/north-texas-chapter-january-2026-acrp-certification-virtual-exam-prep-course
END:VEVENT
END:VCALENDAR